Workbook
Name _Ajinca: 'Recap Solde'!$E$6
Name _Allen: 'Recap Solde'!$E$8
Name _Babault: 'Recap Solde'!$E$10
Name _Baguet: 'Recap Solde'!$E$12
Name _Benoit: 'Recap Solde'!$E$14
Name _Blanes: 'Recap Solde'!$E$16
Name _Blant: 'Recap Solde'!$E$18
Name _Bonnet: 'Recap Solde'!$E$20
Name _Bouchonnet: 'Recap Solde'!$E$22
Name _Eyrignoux: 'Recap Solde'!$E$24
Name _Foulon: 'Recap Solde'!$E$26
Name _garcia: 'Recap Solde'!$E$28
Name _Hooper: 'Recap Solde'!$E$30
Name _Jacquot: 'Recap Solde'!$E$32
Name _Jelali: 'Recap Solde'!$E$34
Name _Lagrange: 'Recap Solde'!$E$36
Name _Ligot: 'Recap Solde'!$E$38
Name _Marty: 'Recap Solde'!$E$40
Name _Michon: 'Recap Solde'!$E$42
Name _Milhas: 'Recap Solde'!#REF!
Name _Mobbs: 'Recap Solde'!$E$44
Name _Nattier: 'Recap Solde'!$E$46
Name _Paquereau: 'Recap Solde'!$E$48
Name _Paradis: 'Recap Solde'!$E$50
Name _Poinsot: 'Recap Solde'!$E$52
Name _prost: 'Recap Solde'!$E$54
Name _Vallee: 'Recap Solde'!$E$56
Name _Zakeossian: 'Recap Solde'!$E$58
Name _Zivkovic: 'Recap Solde'!$E$60

Sheet Suivi détaillé
A1: Commande 02 Avril 2016
A2: AMAPIEN | B2: CIDRE | E2: JUS DE POMMES | G2: VINAIGRE | I2: TOTAL | J2: Solde initial Avril 2016 | K2: VERSEMENTS 2016 | L2: Ajuste-ment | M2: SOLDE 2015/2016
B3: BRUT | C3: DOUX | D3: Prix | E3: bouteille | F3: Prix | G3: bouteille | H3: Prix
B4: Bouteille | C4: Bouteille | D4: 3.5 | F4: 2.7 | H4: 2.7
A6: AJINCA Philippe | D6: =(B6+C6)*$D$4 -> 0 | F6: =E6*$F$4 -> 0 | H6: =G6*$H$4 -> 0 | I6: =++D6+F6+H6 -> 0 | J6: 20 | M6: =+J6+K6-I6 -> 20
A8: ALLEN Guylaine | D8: =(B8+C8)*$D$4 -> 0 | F8: =E8*$F$4 -> 0 | H8: =G8*$H$4 -> 0 | I8: =++D8+F8+H8 -> 0 | J8: 11.3 | M8: =+J8+K8-I8+L8 -> 11.3
A10: BABAULT Christiane | D10: =(B10+C10)*$D$4 -> 0 | F10: =E10*$F$4 -> 0 | H10: =G10*$H$4 -> 0 | I10: =++D10+F10+H10 -> 0 | J10: 0.4 | M10: =+J10+K10-I10 -> 0.4
A12: BAGUET René | D12: =(B12+C12)*$D$4 -> 0 | F12: =E12*$F$4 -> 0 | H12: =G12*$H$4 -> 0 | I12: =++D12+F12+H12 -> 0 | J12: -10 | M12: =+J12+K12-I12 -> -10
A14: BENOIT Philippe | D14: =(B14+C14)*$D$4 -> 0 | F14: =E14*$F$4 -> 0 | H14: =G14*$H$4 -> 0 | I14: =++D14+F14+H14 -> 0 | J14: 0 | M14: =+J14+K14-I14 -> 0
A16: BLANES Guy | D16: =(B16+C16)*$D$4 -> 0 | F16: =E16*$F$4 -> 0 | H16: =G16*$H$4 -> 0 | I16: =++D16+F16+H16 -> 0 | J16: 15 | M16: =+J16+K16-I16 -> 15
A18: BLANT Alain / BARDIN Isabelle | D18: =(B18+C18)*$D$4 -> 0 | F18: =E18*$F$4 -> 0 | H18: =G18*$H$4 -> 0 | I18: =++D18+F18+H18 -> 0 | J18: 7.9 | M18: =+J18+K18-I18 -> 7.9
A20: BONNET Marianne | D20: =(B20+C20)*$D$4 -> 0 | F20: =E20*$F$4 -> 0 | H20: =G20*$H$4 -> 0 | I20: =++D20+F20+H20 -> 0 | J20: -10 | M20: =+J20+K20-I20 -> -10
A22: BOUCHONNET Nadège | D22: =(B22+C22)*$D$4 -> 0 | F22: =E22*$F$4 -> 0 | H22: =G22*$H$4 -> 0 | I22: =++D22+F22+H22 -> 0 | J22: 0 | M22: =+J22+K22-I22 -> 0
A24: EYRIGNOUX Mireille | D24: =(B24+C24)*$D$4 -> 0 | F24: =E24*$F$4 -> 0 | H24: =G24*$H$4 -> 0 | I24: =++D24+F24+H24 -> 0 | J24: 0 | M24: =+J24+K24-I24+L24 -> 0
A26: FOULON Mireille | D26: =(B26+C26)*$D$4 -> 0 | F26: =E26*$F$4 -> 0 | H26: =G26*$H$4 -> 0 | I26: =++D26+F26+H26 -> 0 | J26: 20.9 | M26: =+J26+K26-I26 -> 20.9
A28: GARCIA Marie | D28: =(B28+C28)*$D$4 -> 0 | F28: =E28*$F$4 -> 0 | H28: =G28*$H$4 -> 0 | I28: =++D28+F28+H28 -> 0 | J28: 0 | M28: =+J28+K28-I28 -> 0
A30: HOOPER Christine | D30: =(B30+C30)*$D$4 -> 0 | F30: =E30*$F$4 -> 0 | H30: =G30*$H$4 -> 0 | I30: =++D30+F30+H30 -> 0 | J30: 19.1 | M30: =+J30+K30-I30 -> 19.1
A32: JACQUOT Dominique | D32: =(B32+C32)*$D$4 -> 0 | F32: =E32*$F$4 -> 0 | H32: =G32*$H$4 -> 0 | I32: =++D32+F32+H32 -> 0 | J32: 0 | M32: =+J32+K32-I32+L32 -> 0
A34: JELALI Sonia | D34: =(B34+C34)*$D$4 -> 0 | F34: =E34*$F$4 -> 0 | H34: =G34*$H$4 -> 0 | I34: =++D34+F34+H34 -> 0 | J34: 0 | M34: =+J34+K34-I34 -> 0
A36: LAGRANGE Laetitia | D36: =(B36+C36)*$D$4 -> 0 | F36: =E36*$F$4 -> 0 | H36: =G36*$H$4 -> 0 | I36: =++D36+F36+H36 -> 0 | J36: 11.7 | M36: =+J36+K36-I36 -> 11.7
I37: =++D37+F37+H37 -> 0
A38: LIGOT Agnes | D38: =(B38+C38)*$D$4 -> 0 | F38: =E38*$F$4 -> 0 | H38: =G38*$H$4 -> 0 | I38: =++D38+F38+H38 -> 0 | J38: 16.6 | M38: =+J38+K38-I38 -> 16.6
A40: MARTY Anne | D40: =(B40+C40)*$D$4 -> 0 | F40: =E40*$F$4 -> 0 | H40: =G40*$H$4 -> 0 | I40: =++D40+F40+H40 -> 0 | J40: 0 | M40: =+J40+K40-I40 -> 0
A42: MICHON Sébastien | D42: =(B42+C42)*$D$4 -> 0 | F42: =E42*$F$4 -> 0 | H42: =G42*$H$4 -> 0 | I42: =++D42+F42+H42 -> 0 | J42: -32.2 | M42: =+J42+K42-I42 -> -32.2
A44: MOBBS Emma | D44: =(B44+C44)*$D$4 -> 0 | F44: =E44*$F$4 -> 0 | H44: =G44*$H$4 -> 0 | I44: =++D44+F44+H44 -> 0 | J44: 15.6 | M44: =+J44+K44-I44 -> 15.6
A46: NATTIER Lara | D46: =(B46+C46)*$D$4 -> 0 | F46: =E46*$F$4 -> 0 | H46: =G46*$H$4 -> 0 | I46: =++D46+F46+H46 -> 0 | J46: 10.9 | M46: =+J46+K46-I46 -> 10.9
A48: PAQUEREAU Philippe/Valérie | D48: =(B48+C48)*$D$4 -> 0 | F48: =E48*$F$4 -> 0 | H48: =G48*$H$4 -> 0 | I48: =++D48+F48+H48 -> 0 | J48: 12.6 | M48: =+J48+K48-I48 -> 12.6
A50: PARADIS Gilles et Catherine | D50: =(B50+C50)*$D$4 -> 0 | F50: =E50*$F$4 -> 0 | H50: =G50*$H$4 -> 0 | I50: =++D50+F50+H50 -> 0 | J50: 4.4 | M50: =+J50+K50-I50+L50 -> 4.4
A52: POINSOT Magdalena | D52: =(B52+C52)*$D$4 -> 0 | F52: =E52*$F$4 -> 0 | H52: =G52*$H$4 -> 0 | I52: =++D52+F52+H52 -> 0 | J52: 14.2 | M52: =+J52+K52-I52+L52 -> 14.2
A54: PROST céline | D54: =(B54+C54)*$D$4 -> 0 | F54: =E54*$F$4 -> 0 | H54: =G54*$H$4 -> 0 | I54: =++D54+F54+H54 -> 0 | J54: 7.4 | M54: =+J54+K54-I54 -> 7.4
A56: VALLEE Cyril & Anya | D56: =(B56+C56)*$D$4 -> 0 | F56: =E56*$F$4 -> 0 | H56: =G56*$H$4 -> 0 | I56: =++D56+F56+H56 -> 0 | J56: 14.9 | M56: =+J56+K56-I56 -> 14.9
A58: ZAKEOSSIAN Dikran et Manon | D58: =(B58+C58)*$D$4 -> 0 | F58: =E58*$F$4 -> 0 | H58: =G58*$H$4 -> 0 | I58: =++D58+F58+H58 -> 0 | J58: 21.1 | M58: =+J58+K58-I58 -> 21.1
A60: ZIVKOVIC Véronique | D60: =(B60+C60)*$D$4 -> 0 | F60: =E60*$F$4 -> 0 | H60: =G60*$H$4 -> 0 | I60: =++D60+F60+H60 -> 0 | J60: 16.9 | M60: =+J60+K60-I60 -> 16.9
B63: =SUM(B6:B62) -> 0 | C63: =SUM(C6:C62) -> 0 | E63: =SUM(E6:E62) -> 0 | G63: =SUM(G6:G62) -> 0 | I63: =SUM(I5:I61) -> 0 | J63: =SUM(J5:J61) -> 188.7 | K63: =SUM(K5:K61) -> 0 | M63: =SUM(M5:M61) -> 188.7

Sheet Recap Solde
A1: Suivi de votre solde Fin Dec 2015
A2: AMAPIEN | B2: Solde initial 2015 | C2: VERSEMENTS 2015/2016 | D2: TOTAL DEPENSES | E2: =+'Suivi détaillé'!M2:M4 -> SOLDE 2015/2016
A6: =+'Suivi détaillé'!A6 -> AJINCA Philippe | B6: =+'Suivi détaillé'!J6 -> 20 | C6: =+'Suivi détaillé'!K6 -> 0 | D6: =+'Suivi détaillé'!I6 -> 0 | E6: =+B6+C6-D6 -> 20
A8: =+'Suivi détaillé'!A8 -> ALLEN Guylaine | B8: =+'Suivi détaillé'!J8 -> 11.3 | C8: =+'Suivi détaillé'!K8 -> 0 | D8: =+'Suivi détaillé'!I8-'Suivi détaillé'!L8 -> 0 | E8: =+B8+C8-D8 -> 11.3
A10: =+'Suivi détaillé'!A10 -> BABAULT Christiane | B10: =+'Suivi détaillé'!J10 -> 0.4 | C10: =+'Suivi détaillé'!K10 -> 0 | D10: =+'Suivi détaillé'!I10 -> 0 | E10: =+B10+C10-D10 -> 0.4
A12: =+'Suivi détaillé'!A12 -> BAGUET René | B12: =+'Suivi détaillé'!J12 -> -10 | C12: =+'Suivi détaillé'!K12 -> 0 | D12: =+'Suivi détaillé'!I12 -> 0 | E12: =+B12+C12-D12 -> -10
A14: =+'Suivi détaillé'!A14 -> BENOIT Philippe | B14: =+'Suivi détaillé'!J14 -> 0 | C14: =+'Suivi détaillé'!K14 -> 0 | D14: =+'Suivi détaillé'!I14 -> 0 | E14: =+B14+C14-D14 -> 0
A16: =+'Suivi détaillé'!A16 -> BLANES Guy | B16: =+'Suivi détaillé'!J16 -> 15 | C16: =+'Suivi détaillé'!K16 -> 0 | D16: =+'Suivi détaillé'!I16 -> 0 | E16: =+B16+C16-D16 -> 15
A18: =+'Suivi détaillé'!A18 -> BLANT Alain / BARDIN Isabelle | B18: =+'Suivi détaillé'!J18 -> 7.9 | C18: =+'Suivi détaillé'!K18 -> 0 | D18: =+'Suivi détaillé'!I18 -> 0 | E18: =+B18+C18-D18 -> 7.9
A20: =+'Suivi détaillé'!A20 -> BONNET Marianne | B20: =+'Suivi détaillé'!J20 -> -10 | C20: =+'Suivi détaillé'!K20 -> 0 | D20: =+'Suivi détaillé'!I20 -> 0 | E20: =+B20+C20-D20 -> -10
A22: =+'Suivi détaillé'!A22 -> BOUCHONNET Nadège | B22: =+'Suivi détaillé'!J22 -> 0 | C22: =+'Suivi détaillé'!K22 -> 0 | D22: =+'Suivi détaillé'!I22 -> 0 | E22: =+B22+C22-D22 -> 0
A24: =+'Suivi détaillé'!A24 -> EYRIGNOUX Mireille | B24: =+'Suivi détaillé'!J24 -> 0 | C24: =+'Suivi détaillé'!K24 -> 0 | D24: =+'Suivi détaillé'!I24 -> 0 | E24: =+B24+C24-D24 -> 0
A26: =+'Suivi détaillé'!A26 -> FOULON Mireille | B26: =+'Suivi détaillé'!J26 -> 20.9 | C26: =+'Suivi détaillé'!K26 -> 0 | D26: =+'Suivi détaillé'!I26 -> 0 | E26: =+B26+C26-D26 -> 20.9
A28: =+'Suivi détaillé'!A28 -> GARCIA Marie | B28: =+'Suivi détaillé'!J28 -> 0 | C28: =+'Suivi détaillé'!K28 -> 0 | D28: =+'Suivi détaillé'!I28 -> 0 | E28: =+B28+C28-D28 -> 0
A30: HOOPER Christine | B30: =+'Suivi détaillé'!J30 -> 19.1 | C30: =+'Suivi détaillé'!K30 -> 0 | D30: =+'Suivi détaillé'!I30 -> 0 | E30: =+B30+C30-D30 -> 19.1
A32: =+'Suivi détaillé'!A32 -> JACQUOT Dominique | B32: =+'Suivi détaillé'!J32 -> 0 | C32: =+'Suivi détaillé'!K32 -> 0 | D32: =+'Suivi détaillé'!I32 -> 0 | E32: =+B32+C32-D32 -> 0
A34: =+'Suivi détaillé'!A34 -> JELALI Sonia | B34: =+'Suivi détaillé'!J34 -> 0 | C34: =+'Suivi détaillé'!K34 -> 0 | D34: =+'Suivi détaillé'!I34 -> 0 | E34: =+B34+C34-D34 -> 0
A36: LAGRANGE Laetitia | B36: =+'Suivi détaillé'!J36 -> 11.7 | C36: =+'Suivi détaillé'!K36 -> 0 | D36: =+'Suivi détaillé'!I36 -> 0 | E36: =+B36+C36-D36 -> 11.7
A38: =+'Suivi détaillé'!A38 -> LIGOT Agnes | B38: =+'Suivi détaillé'!J38 -> 16.6 | C38: =+'Suivi détaillé'!K38 -> 0 | D38: =+'Suivi détaillé'!I38 -> 0 | E38: =+B38+C38-D38 -> 16.6
A40: MARTY Anne | B40: =+'Suivi détaillé'!J40 -> 0 | C40: =+'Suivi détaillé'!K40 -> 0 | D40: =+'Suivi détaillé'!I40 -> 0 | E40: =+B40+C40-D40 -> 0
A42: =+'Suivi détaillé'!A42 -> MICHON Sébastien | B42: =+'Suivi détaillé'!J42 -> -32.2 | C42: =+'Suivi détaillé'!K42 -> 0 | D42: =+'Suivi détaillé'!I42 -> 0 | E42: =+B42+C42-D42 -> -32.2
A44: =+'Suivi détaillé'!A44 -> MOBBS Emma | B44: =+'Suivi détaillé'!J44 -> 15.6 | C44: =+'Suivi détaillé'!K44 -> 0 | D44: =+'Suivi détaillé'!I44 -> 0 | E44: =+B44+C44-D44 -> 15.6
A46: =+'Suivi détaillé'!A46 -> NATTIER Lara | B46: =+'Suivi détaillé'!J46 -> 10.9 | C46: =+'Suivi détaillé'!K46 -> 0 | D46: =+'Suivi détaillé'!I46 -> 0 | E46: =+B46+C46-D46 -> 10.9
A48: =+'Suivi détaillé'!A48 -> PAQUEREAU Philippe/Valérie | B48: =+'Suivi détaillé'!J48 -> 12.6 | C48: =+'Suivi détaillé'!K48 -> 0 | D48: =+'Suivi détaillé'!I48 -> 0 | E48: =+B48+C48-D48 -> 12.6
A50: =+'Suivi détaillé'!A50 -> PARADIS Gilles et Catherine | B50: =+'Suivi détaillé'!J50 -> 4.4 | C50: =+'Suivi détaillé'!K50 -> 0 | D50: =+'Suivi détaillé'!I50 -> 0 | E50: =+B50+C50-D50 -> 4.4
A52: =+'Suivi détaillé'!A52 -> POINSOT Magdalena | B52: =+'Suivi détaillé'!J52 -> 14.2 | C52: =+'Suivi détaillé'!K52 -> 0 | D52: =+'Suivi détaillé'!I52 -> 0 | E52: =+B52+C52-D52 -> 14.2
A54: =+'Suivi détaillé'!A54 -> PROST céline | B54: =+'Suivi détaillé'!J54 -> 7.4 | C54: =+'Suivi détaillé'!K54 -> 0 | D54: =+'Suivi détaillé'!I54 -> 0 | E54: =+B54+C54-D54 -> 7.4
A56: =+'Suivi détaillé'!A56 -> VALLEE Cyril & Anya | B56: =+'Suivi détaillé'!J56 -> 14.9 | C56: =+'Suivi détaillé'!K56 -> 0 | D56: =+'Suivi détaillé'!I56 -> 0 | E56: =+B56+C56-D56 -> 14.9
A58: =+'Suivi détaillé'!A58 -> ZAKEOSSIAN Dikran et Manon | B58: =+'Suivi détaillé'!J58 -> 21.1 | C58: =+'Suivi détaillé'!K58 -> 0 | D58: =+'Suivi détaillé'!I58 -> 0 | E58: =+B58+C58-D58 -> 21.1
A60: =+'Suivi détaillé'!A60 -> ZIVKOVIC Véronique | B60: =+'Suivi détaillé'!J60 -> 16.9 | C60: =+'Suivi détaillé'!K60 -> 0 | D60: =+'Suivi détaillé'!I60 -> 0 | E60: =+B60+C60-D60 -> 16.9
B64: =SUM(B6:B61) -> 188.7 | C64: =SUM(C6:C61) -> 0 | D64: =SUM(D6:D61) -> 0 | E64: =SUM(E6:E61) -> 188.7
